BEGIN:VCALENDAR
VERSION:2.0
PRODID:-//Rotary Club of Wilsonville - ECPv6.15.20//NONSGML v1.0//EN
CALSCALE:GREGORIAN
METHOD:PUBLISH
X-WR-CALNAME:Rotary Club of Wilsonville
X-ORIGINAL-URL:https://www.wilsonvillerotary.com
X-WR-CALDESC:Events for Rotary Club of Wilsonville
REFRESH-INTERVAL;VALUE=DURATION:PT1H
X-Robots-Tag:noindex
X-PUBLISHED-TTL:PT1H
BEGIN:VTIMEZONE
TZID:America/Los_Angeles
BEGIN:DAYLIGHT
TZOFFSETFROM:-0800
TZOFFSETTO:-0700
TZNAME:PDT
DTSTART:20250309T100000
END:DAYLIGHT
BEGIN:STANDARD
TZOFFSETFROM:-0700
TZOFFSETTO:-0800
TZNAME:PST
DTSTART:20251102T090000
END:STANDARD
BEGIN:DAYLIGHT
TZOFFSETFROM:-0800
TZOFFSETTO:-0700
TZNAME:PDT
DTSTART:20260308T100000
END:DAYLIGHT
BEGIN:STANDARD
TZOFFSETFROM:-0700
TZOFFSETTO:-0800
TZNAME:PST
DTSTART:20261101T090000
END:STANDARD
BEGIN:DAYLIGHT
TZOFFSETFROM:-0800
TZOFFSETTO:-0700
TZNAME:PDT
DTSTART:20270314T100000
END:DAYLIGHT
BEGIN:STANDARD
TZOFFSETFROM:-0700
TZOFFSETTO:-0800
TZNAME:PST
DTSTART:20271107T090000
END:STANDARD
END:VTIMEZONE
BEGIN:VEVENT
DTSTART;TZID=America/Los_Angeles:20260625T114500
DTEND;TZID=America/Los_Angeles:20260625T130000
DTSTAMP:20260425T033304
CREATED:20260320T141620Z
LAST-MODIFIED:20260320T142536Z
UID:206932-1782387900-1782392400@www.wilsonvillerotary.com
SUMMARY:No Meeting June 25
DESCRIPTION:There will be no regular Thursday meeting on June 25. \nOur Installation and Awards Banquet will be held that evening at the Hilton Garden Inn in Wilsonville. \n\n\n	Related
URL:https://www.wilsonvillerotary.com/event/meeting-20260625/
LOCATION:Black Bear Diner\, 30175 S.W. Parkway Ave.\, Wilsonville\, OR\, 97070\, United States
CATEGORIES:Meeting,Speaker
ATTACH;FMTTYPE=image/png:https://www.wilsonvillerotary.com/wp-content/uploads/2026/03/WS-Speaker-20260625-no-meeting.png
ORGANIZER;CN="Rotary Club of Wilsonville":MAILTO:info@wilsonvillerotary.com
END:VEVENT
END:VCALENDAR