BEGIN:VCALENDAR
VERSION:2.0
PRODID:-//Rotary Club of Wilsonville - ECPv6.15.20//NONSGML v1.0//EN
CALSCALE:GREGORIAN
METHOD:PUBLISH
X-WR-CALNAME:Rotary Club of Wilsonville
X-ORIGINAL-URL:https://www.wilsonvillerotary.com
X-WR-CALDESC:Events for Rotary Club of Wilsonville
REFRESH-INTERVAL;VALUE=DURATION:PT1H
X-Robots-Tag:noindex
X-PUBLISHED-TTL:PT1H
BEGIN:VTIMEZONE
TZID:America/Los_Angeles
BEGIN:DAYLIGHT
TZOFFSETFROM:-0800
TZOFFSETTO:-0700
TZNAME:PDT
DTSTART:20250309T100000
END:DAYLIGHT
BEGIN:STANDARD
TZOFFSETFROM:-0700
TZOFFSETTO:-0800
TZNAME:PST
DTSTART:20251102T090000
END:STANDARD
BEGIN:DAYLIGHT
TZOFFSETFROM:-0800
TZOFFSETTO:-0700
TZNAME:PDT
DTSTART:20260308T100000
END:DAYLIGHT
BEGIN:STANDARD
TZOFFSETFROM:-0700
TZOFFSETTO:-0800
TZNAME:PST
DTSTART:20261101T090000
END:STANDARD
BEGIN:DAYLIGHT
TZOFFSETFROM:-0800
TZOFFSETTO:-0700
TZNAME:PDT
DTSTART:20270314T100000
END:DAYLIGHT
BEGIN:STANDARD
TZOFFSETFROM:-0700
TZOFFSETTO:-0800
TZNAME:PST
DTSTART:20271107T090000
END:STANDARD
END:VTIMEZONE
BEGIN:VEVENT
DTSTART;TZID=America/Los_Angeles:20260423T114500
DTEND;TZID=America/Los_Angeles:20260423T130000
DTSTAMP:20260423T074629
CREATED:20260414T125002Z
LAST-MODIFIED:20260419T153823Z
UID:207205-1776944700-1776949200@www.wilsonvillerotary.com
SUMMARY:Club Meeting: Disaster Preparedness
DESCRIPTION:Daniel Nibouar\, director of the Clackamas County Office of Disaster Management\, and Martin Montalvo\, public works operations manager for the city of Wilsonville\, will speak on the topic of disaster preparedness. Don’t wait for the next winter storm or wildfire to decide how to protect your family and home. Join us to learn how to break down the complex task of disaster preparedness into small\, manageable steps that build lasting resilience for you and your Wilsonville neighbors. \nAbout the speakers: Daniel Nibouar is the Disaster Management Director for Clackamas County. With over 20 years of experience in the field and a Master’s degree in Emergency Management\, he has successfully navigated the county through major disasters\, from historic wildfires and extreme winter weather to significant flooding. Daniel is dedicated to fostering a culture of readiness and resilience within and across Clackamas County. Martin Montalvo is the public works operations manager for the city of Wilsonville. He has nearly 30 years of public works experience\, working in Florida and in Milaukie\, Oregon before coming here. He received a bachelor’s degree in biology from the University of South Florida and served in the Coast Guard Reserve. \nAbout our club: The Rotary Club of Wilsonville meets weekly Thursdays at noon to carry out its purpose of providing service and fellowship to members and the Wilsonville community. Guests are welcome. Lunch is available off the menu; please arrive and order by 11:45 a.m. if you are ordering lunch. For more information\, email president@wilsonvillerotary.com. \n\n\n	Related
URL:https://www.wilsonvillerotary.com/event/meeting-20260423/
LOCATION:Black Bear Diner\, 30175 S.W. Parkway Ave.\, Wilsonville\, OR\, 97070\, United States
CATEGORIES:Meeting,Speaker
ATTACH;FMTTYPE=image/png:https://www.wilsonvillerotary.com/wp-content/uploads/2026/04/WS-Speaker-20260423-Nibouar-Montalvo.png
ORGANIZER;CN="Rotary Club of Wilsonville":MAILTO:info@wilsonvillerotary.com
END:VEVENT
END:VCALENDAR