BEGIN:VCALENDAR
VERSION:2.0
PRODID:-//Rotary Club of Wilsonville - ECPv6.15.20//NONSGML v1.0//EN
CALSCALE:GREGORIAN
METHOD:PUBLISH
X-WR-CALNAME:Rotary Club of Wilsonville
X-ORIGINAL-URL:https://www.wilsonvillerotary.com
X-WR-CALDESC:Events for Rotary Club of Wilsonville
REFRESH-INTERVAL;VALUE=DURATION:PT1H
X-Robots-Tag:noindex
X-PUBLISHED-TTL:PT1H
BEGIN:VTIMEZONE
TZID:America/Los_Angeles
BEGIN:DAYLIGHT
TZOFFSETFROM:-0800
TZOFFSETTO:-0700
TZNAME:PDT
DTSTART:20250309T100000
END:DAYLIGHT
BEGIN:STANDARD
TZOFFSETFROM:-0700
TZOFFSETTO:-0800
TZNAME:PST
DTSTART:20251102T090000
END:STANDARD
BEGIN:DAYLIGHT
TZOFFSETFROM:-0800
TZOFFSETTO:-0700
TZNAME:PDT
DTSTART:20260308T100000
END:DAYLIGHT
BEGIN:STANDARD
TZOFFSETFROM:-0700
TZOFFSETTO:-0800
TZNAME:PST
DTSTART:20261101T090000
END:STANDARD
BEGIN:DAYLIGHT
TZOFFSETFROM:-0800
TZOFFSETTO:-0700
TZNAME:PDT
DTSTART:20270314T100000
END:DAYLIGHT
BEGIN:STANDARD
TZOFFSETFROM:-0700
TZOFFSETTO:-0800
TZNAME:PST
DTSTART:20271107T090000
END:STANDARD
END:VTIMEZONE
BEGIN:VEVENT
DTSTART;TZID=America/Los_Angeles:20260411T180000
DTEND;TZID=America/Los_Angeles:20260411T210000
DTSTAMP:20260423T075538
CREATED:20260115T042559Z
LAST-MODIFIED:20260305T144524Z
UID:206700-1775930400-1775941200@www.wilsonvillerotary.com
SUMMARY:The Sweet Life of Service: The 2026 Heart of Gold Gala and Auction
DESCRIPTION:This special evening honors the 2025 Wilsonville First Citizen finalists\, recognizing those who make a lasting impact in our community. At the end of the evening\, the new First Citizen will be announced. Guests will enjoy inspiring stories\, exciting auction items\, and a chance to win a dream getaway—all while supporting the Rotary Club of Wilsonville. Learn more\, get tickets\, and enter the raffle. \nTickets are $85 Early Bird (before February 28) and $95 after that\, or $680 for a table of eight. \n\n\nPurchase Tickets\n\nRead About This Year's Finalists\n\n\n\n		\n	\n	\n\n	Related
URL:https://www.wilsonvillerotary.com/event/hog-2026/
LOCATION:Oregon Golf Club\, 25700 SW Pete's Mountain Road\, West Linn\, OR\, 97068\, United States
CATEGORIES:Fundraiser
ATTACH;FMTTYPE=image/png:https://www.wilsonvillerotary.com/wp-content/uploads/2026/01/HOG-2026-FB-slide-1920x1005-w-QR-code.png
ORGANIZER;CN="Rotary Club of Wilsonville":MAILTO:info@wilsonvillerotary.com
END:VEVENT
END:VCALENDAR